BEGIN:VCALENDAR
VERSION:2.0
PRODID:-//Picnic Club - ECPv6.15.12.2//NONSGML v1.0//EN
CALSCALE:GREGORIAN
METHOD:PUBLISH
X-WR-CALNAME:Picnic Club
X-ORIGINAL-URL:https://picnicclub.de
X-WR-CALDESC:Veranstaltungen für Picnic Club
REFRESH-INTERVAL;VALUE=DURATION:PT1H
X-Robots-Tag:noindex
X-PUBLISHED-TTL:PT1H
BEGIN:VTIMEZONE
TZID:Europe/Helsinki
BEGIN:DAYLIGHT
TZOFFSETFROM:+0200
TZOFFSETTO:+0300
TZNAME:EEST
DTSTART:20190331T010000
END:DAYLIGHT
BEGIN:STANDARD
TZOFFSETFROM:+0300
TZOFFSETTO:+0200
TZNAME:EET
DTSTART:20191027T010000
END:STANDARD
BEGIN:DAYLIGHT
TZOFFSETFROM:+0200
TZOFFSETTO:+0300
TZNAME:EEST
DTSTART:20200329T010000
END:DAYLIGHT
BEGIN:STANDARD
TZOFFSETFROM:+0300
TZOFFSETTO:+0200
TZNAME:EET
DTSTART:20201025T010000
END:STANDARD
BEGIN:DAYLIGHT
TZOFFSETFROM:+0200
TZOFFSETTO:+0300
TZNAME:EEST
DTSTART:20210328T010000
END:DAYLIGHT
BEGIN:STANDARD
TZOFFSETFROM:+0300
TZOFFSETTO:+0200
TZNAME:EET
DTSTART:20211031T010000
END:STANDARD
END:VTIMEZONE
BEGIN:VEVENT
DTSTART;TZID=Europe/Helsinki:20200822T170000
DTEND;TZID=Europe/Helsinki:20200822T220000
DTSTAMP:20260423T150131
CREATED:20200810T101753Z
LAST-MODIFIED:20200810T102219Z
UID:319-1598115600-1598133600@picnicclub.de
SUMMARY:PICNIC AM SEE | 22.08.2020
DESCRIPTION:MORE INFO & TICKETS
URL:https://picnicclub.de/event/picnic-am-see-22-08-2020/
LOCATION:Landgut Lingental\, Lingentaler Hof 2-10\, Leimen\, Baden-Württemberg\, 69181\, Deutschland
ATTACH;FMTTYPE=image/jpeg:https://picnicclub.de/wp-content/uploads/2020/08/header_WhitePicnic_Lingental.jpg
ORGANIZER;CN="PICNIC CLUB":MAILTO:info@picnicclub.de
END:VEVENT
BEGIN:VEVENT
DTSTART;TZID=Europe/Helsinki:20200722T183000
DTEND;TZID=Europe/Helsinki:20200722T235900
DTSTAMP:20260423T150131
CREATED:20200730T120638Z
LAST-MODIFIED:20200730T124446Z
UID:272-1595442600-1595462340@picnicclub.de
SUMMARY:WHITE PICNIC presented by Moët & Chandon | 22.07.2020
DESCRIPTION:Mi. 22. Juli 2020\, 18:30 Uhr\nGutshof Ladenburg\, Ladenburg \nMORE INFO & TICKETS
URL:https://picnicclub.de/event/vino-picnic/
LOCATION:Gutshof Ladenburg\, Schriesheimer Str. 101\, Ladenburg\, 68526\, Deutschland
ATTACH;FMTTYPE=image/jpeg:https://picnicclub.de/wp-content/uploads/2020/07/WP22.07.Header.jpg
END:VEVENT
BEGIN:VEVENT
DTSTART;TZID=Europe/Helsinki:20200712T120000
DTEND;TZID=Europe/Helsinki:20200712T160000
DTSTAMP:20260423T150131
CREATED:20200730T124041Z
LAST-MODIFIED:20200730T124256Z
UID:287-1594555200-1594569600@picnicclub.de
SUMMARY:PICNIC CLUB Opening | 12.07.2020
DESCRIPTION:So. 12. Juli 2020\, 12:00 Uhr\nWeingut Fitz-Ritter\, Bad Dürkheim \nMORE INFO & TICKETS
URL:https://picnicclub.de/event/picnic-club-opening-am-12-07-2020/
LOCATION:Weingut Fitz-Ritter\, Bad Dürkheim\, Deutschland
ATTACH;FMTTYPE=image/jpeg:https://picnicclub.de/wp-content/uploads/2020/07/PC_Opening_12.07.Header.jpg
END:VEVENT
END:VCALENDAR